BEGIN:VCALENDAR
VERSION:2.0
PRODID:-//filouthedog.de - ECPv5.16.2.1//NONSGML v1.0//EN
CALSCALE:GREGORIAN
METHOD:PUBLISH
X-ORIGINAL-URL:https://filouthedog.de
X-WR-CALDESC:Events for filouthedog.de
REFRESH-INTERVAL;VALUE=DURATION:PT1H
X-Robots-Tag:noindex
X-PUBLISHED-TTL:PT1H
BEGIN:VTIMEZONE
TZID:Europe/Berlin
BEGIN:DAYLIGHT
TZOFFSETFROM:+0100
TZOFFSETTO:+0200
TZNAME:CEST
DTSTART:20230326T010000
END:DAYLIGHT
BEGIN:STANDARD
TZOFFSETFROM:+0200
TZOFFSETTO:+0100
TZNAME:CET
DTSTART:20231029T010000
END:STANDARD
END:VTIMEZONE
BEGIN:VEVENT
DTSTART;TZID=Europe/Berlin:20230402T080000
DTEND;TZID=Europe/Berlin:20230402T180000
DTSTAMP:20260420T130234
CREATED:20230322T120944Z
LAST-MODIFIED:20230327T123329Z
UID:66-1680422400-1680458400@filouthedog.de
SUMMARY:Markenoffenes Young- und Oldtimertreffen Frenchtimes Saar Kupferbergwerk Düppenweiler
DESCRIPTION:
URL:https://filouthedog.de/event/oldtimertreffen-beckingen/
END:VEVENT
BEGIN:VEVENT
DTSTART;TZID=Europe/Berlin:20230430T080000
DTEND;TZID=Europe/Berlin:20230430T170000
DTSTAMP:20260420T130234
CREATED:20230322T121038Z
LAST-MODIFIED:20230426T072709Z
UID:68-1682841600-1682874000@filouthedog.de
SUMMARY:Oldtimertreffen Heusweiler Globus Baumarkt
DESCRIPTION:
URL:https://filouthedog.de/event/oldtimertreffen-heusweiler-globus-baumarkt/
ATTACH;FMTTYPE=image/png:https://filouthedog.de/wp-content/uploads/2023/03/Bildschirmfoto-2023-04-26-um-09.26.26.png
END:VEVENT
END:VCALENDAR