BEGIN:VCALENDAR
VERSION:2.0
PRODID:-//filouthedog.de - ECPv5.16.2.1//NONSGML v1.0//EN
CALSCALE:GREGORIAN
METHOD:PUBLISH
X-ORIGINAL-URL:https://filouthedog.de
X-WR-CALDESC:Events for filouthedog.de
REFRESH-INTERVAL;VALUE=DURATION:PT1H
X-Robots-Tag:noindex
X-PUBLISHED-TTL:PT1H
BEGIN:VTIMEZONE
TZID:Europe/Berlin
BEGIN:DAYLIGHT
TZOFFSETFROM:+0100
TZOFFSETTO:+0200
TZNAME:CEST
DTSTART:20230326T010000
END:DAYLIGHT
BEGIN:STANDARD
TZOFFSETFROM:+0200
TZOFFSETTO:+0100
TZNAME:CET
DTSTART:20231029T010000
END:STANDARD
END:VTIMEZONE
BEGIN:VEVENT
DTSTART;TZID=Europe/Berlin:20230304T190000
DTEND;TZID=Europe/Berlin:20230304T233000
DTSTAMP:20260420T154525
CREATED:20230202T093353Z
LAST-MODIFIED:20230202T093353Z
UID:58-1677956400-1677972600@filouthedog.de
SUMMARY:Mofa Party Hüttersdorf
DESCRIPTION:
URL:https://filouthedog.de/event/mofa-party-huettersdorf/
LOCATION:B-Eck Düppenweilerstraße 56\, Düppenweilerstraße 56\, Schmelz\, 66839
ATTACH;FMTTYPE=image/png:https://filouthedog.de/wp-content/uploads/2023/02/Bildschirm­foto-2023-02-02-um-10.31.54.png
END:VEVENT
END:VCALENDAR