BEGIN:VCALENDAR
VERSION:2.0
PRODID:-//filouthedog.de - ECPv5.16.2.1//NONSGML v1.0//EN
CALSCALE:GREGORIAN
METHOD:PUBLISH
X-WR-CALNAME:filouthedog.de
X-ORIGINAL-URL:https://filouthedog.de
X-WR-CALDESC:Events for filouthedog.de
REFRESH-INTERVAL;VALUE=DURATION:PT1H
X-Robots-Tag:noindex
X-PUBLISHED-TTL:PT1H
BEGIN:VTIMEZONE
TZID:Europe/Berlin
BEGIN:DAYLIGHT
TZOFFSETFROM:+0100
TZOFFSETTO:+0200
TZNAME:CEST
DTSTART:20220327T010000
END:DAYLIGHT
BEGIN:STANDARD
TZOFFSETFROM:+0200
TZOFFSETTO:+0100
TZNAME:CET
DTSTART:20221030T010000
END:STANDARD
END:VTIMEZONE
BEGIN:VEVENT
DTSTART;TZID=Europe/Berlin:20220827T113000
DTEND;TZID=Europe/Berlin:20220827T220000
DTSTAMP:20260421T020826
CREATED:20220726T091254Z
LAST-MODIFIED:20220726T091254Z
UID:40-1661599800-1661637600@filouthedog.de
SUMMARY:RUST & Shine
DESCRIPTION:
URL:https://filouthedog.de/event/rust-shine/
LOCATION:Festplatz Rappweiler
ATTACH;FMTTYPE=image/jpeg:https://filouthedog.de/wp-content/uploads/2022/07/WhatsApp-Image-2022-07-26-at-11.05.42.jpeg
END:VEVENT
END:VCALENDAR