BEGIN:VCALENDAR
VERSION:2.0
PRODID:-//filouthedog.de - ECPv5.16.2.1//NONSGML v1.0//EN
CALSCALE:GREGORIAN
METHOD:PUBLISH
X-ORIGINAL-URL:https://filouthedog.de
X-WR-CALDESC:Events for filouthedog.de
REFRESH-INTERVAL;VALUE=DURATION:PT1H
X-Robots-Tag:noindex
X-PUBLISHED-TTL:PT1H
BEGIN:VTIMEZONE
TZID:Europe/Berlin
BEGIN:DAYLIGHT
TZOFFSETFROM:+0100
TZOFFSETTO:+0200
TZNAME:CEST
DTSTART:20220327T010000
END:DAYLIGHT
BEGIN:STANDARD
TZOFFSETFROM:+0200
TZOFFSETTO:+0100
TZNAME:CET
DTSTART:20221030T010000
END:STANDARD
END:VTIMEZONE
BEGIN:VEVENT
DTSTART;TZID=Europe/Berlin:20220820T110000
DTEND;TZID=Europe/Berlin:20220821T190000
DTSTAMP:20260421T021311
CREATED:20220808T074952Z
LAST-MODIFIED:20220808T074952Z
UID:50-1660993200-1661108400@filouthedog.de
SUMMARY:Klassik Autos im Grünen 2022
DESCRIPTION:
URL:https://filouthedog.de/event/klassik-autos-im-gruenen-2022/
LOCATION:Margaretenhof\, Margaretenhof 1\, Berus\, 66802
ATTACH;FMTTYPE=image/png:https://filouthedog.de/wp-content/uploads/2022/08/Bildschirmfoto-2022-08-08-um-09.47.16.png
END:VEVENT
END:VCALENDAR