BEGIN:VCALENDAR
VERSION:2.0
PRODID:-//filouthedog.de - ECPv5.16.2.1//NONSGML v1.0//EN
CALSCALE:GREGORIAN
METHOD:PUBLISH
X-ORIGINAL-URL:https://filouthedog.de
X-WR-CALDESC:Events for filouthedog.de
REFRESH-INTERVAL;VALUE=DURATION:PT1H
X-Robots-Tag:noindex
X-PUBLISHED-TTL:PT1H
BEGIN:VTIMEZONE
TZID:Europe/Berlin
BEGIN:DAYLIGHT
TZOFFSETFROM:+0100
TZOFFSETTO:+0200
TZNAME:CEST
DTSTART:20220327T010000
END:DAYLIGHT
BEGIN:STANDARD
TZOFFSETFROM:+0200
TZOFFSETTO:+0100
TZNAME:CET
DTSTART:20221030T010000
END:STANDARD
END:VTIMEZONE
BEGIN:VEVENT
DTSTART;TZID=Europe/Berlin:20220806T110000
DTEND;TZID=Europe/Berlin:20220806T230000
DTSTAMP:20260421T021240
CREATED:20220715T112240Z
LAST-MODIFIED:20220715T112345Z
UID:23-1659783600-1659826800@filouthedog.de
SUMMARY:2. Mofatreffen Zylindaacops
DESCRIPTION:
URL:https://filouthedog.de/event/2-mofatreffen-zylindaacops/
LOCATION:ASV Weiher Schmelz\, Schmelz\, 66839\, Deutschland
ATTACH;FMTTYPE=image/png:https://filouthedog.de/wp-content/uploads/2022/07/Bildschirmfoto-2022-07-15-um-13.12.04.png
END:VEVENT
BEGIN:VEVENT
DTSTART;TZID=Europe/Berlin:20220806T120000
DTEND;TZID=Europe/Berlin:20220807T170000
DTSTAMP:20260421T021240
CREATED:20220715T115350Z
LAST-MODIFIED:20220715T115526Z
UID:35-1659787200-1659891600@filouthedog.de
SUMMARY:OLDTIMER & YOUNGTIMER SOMMERFEST Dillingen
DESCRIPTION:
URL:https://filouthedog.de/event/oldtimer-youngtimer-sommerfest-dillingen/
LOCATION:STADTPARK DILLINGEN\, STADTPARK DILLINGEN\, Dillingen\, 66763\, Deutschland
ATTACH;FMTTYPE=image/png:https://filouthedog.de/wp-content/uploads/2022/07/Bildschirmfoto-2022-07-15-um-13.54.55.png
END:VEVENT
END:VCALENDAR